BEGIN:VCALENDAR
VERSION:2.0
PRODID:-//City of Lakeside Park, KY - ECPv6.15.20//NONSGML v1.0//EN
CALSCALE:GREGORIAN
METHOD:PUBLISH
X-WR-CALNAME:City of Lakeside Park, KY
X-ORIGINAL-URL:https://lakesideparkky.gov
X-WR-CALDESC:Events for City of Lakeside Park, KY
REFRESH-INTERVAL;VALUE=DURATION:PT1H
X-Robots-Tag:noindex
X-PUBLISHED-TTL:PT1H
BEGIN:VTIMEZONE
TZID:America/New_York
BEGIN:DAYLIGHT
TZOFFSETFROM:-0500
TZOFFSETTO:-0400
TZNAME:EDT
DTSTART:20220313T070000
END:DAYLIGHT
BEGIN:STANDARD
TZOFFSETFROM:-0400
TZOFFSETTO:-0500
TZNAME:EST
DTSTART:20221106T060000
END:STANDARD
BEGIN:DAYLIGHT
TZOFFSETFROM:-0500
TZOFFSETTO:-0400
TZNAME:EDT
DTSTART:20230312T070000
END:DAYLIGHT
BEGIN:STANDARD
TZOFFSETFROM:-0400
TZOFFSETTO:-0500
TZNAME:EST
DTSTART:20231105T060000
END:STANDARD
BEGIN:DAYLIGHT
TZOFFSETFROM:-0500
TZOFFSETTO:-0400
TZNAME:EDT
DTSTART:20240310T070000
END:DAYLIGHT
BEGIN:STANDARD
TZOFFSETFROM:-0400
TZOFFSETTO:-0500
TZNAME:EST
DTSTART:20241103T060000
END:STANDARD
END:VTIMEZONE
BEGIN:VEVENT
DTSTART;TZID=America/New_York:20231028T160000
DTEND;TZID=America/New_York:20231028T173000
DTSTAMP:20260420T095513
CREATED:20230926T134958Z
LAST-MODIFIED:20231027T124330Z
UID:10000344-1698508800-1698514200@lakesideparkky.gov
SUMMARY:👀 Trunk or Treat October 28th 4:00 to 5:30 pm RAIN OR SHINE
DESCRIPTION:If you would like to volunteer\, CLICK HERE. 
URL:https://lakesideparkky.gov/event/%f0%9f%91%80-trunk-or-treat-october-28th-400-to-530-pm/
LOCATION:Immanual Church\, 2551 Dixie Highway\, Lakeside Park\, KY\, 41017\, United States
CATEGORIES:Recreation
END:VEVENT
END:VCALENDAR