BEGIN:VCALENDAR
VERSION:2.0
PRODID:-//City of Lakeside Park, KY - ECPv6.15.20//NONSGML v1.0//EN
CALSCALE:GREGORIAN
METHOD:PUBLISH
X-WR-CALNAME:City of Lakeside Park, KY
X-ORIGINAL-URL:https://lakesideparkky.gov
X-WR-CALDESC:Events for City of Lakeside Park, KY
REFRESH-INTERVAL;VALUE=DURATION:PT1H
X-Robots-Tag:noindex
X-PUBLISHED-TTL:PT1H
BEGIN:VTIMEZONE
TZID:America/New_York
BEGIN:DAYLIGHT
TZOFFSETFROM:-0500
TZOFFSETTO:-0400
TZNAME:EDT
DTSTART:20290311T070000
END:DAYLIGHT
BEGIN:STANDARD
TZOFFSETFROM:-0400
TZOFFSETTO:-0500
TZNAME:EST
DTSTART:20291104T060000
END:STANDARD
BEGIN:DAYLIGHT
TZOFFSETFROM:-0500
TZOFFSETTO:-0400
TZNAME:EDT
DTSTART:20300310T070000
END:DAYLIGHT
BEGIN:STANDARD
TZOFFSETFROM:-0400
TZOFFSETTO:-0500
TZNAME:EST
DTSTART:20301103T060000
END:STANDARD
BEGIN:DAYLIGHT
TZOFFSETFROM:-0500
TZOFFSETTO:-0400
TZNAME:EDT
DTSTART:20310309T070000
END:DAYLIGHT
BEGIN:STANDARD
TZOFFSETFROM:-0400
TZOFFSETTO:-0500
TZNAME:EST
DTSTART:20311102T060000
END:STANDARD
END:VTIMEZONE
BEGIN:VEVENT
DTSTART;TZID=America/New_York:20300610T190000
DTEND;TZID=America/New_York:20300610T210000
DTSTAMP:20260420T040747
CREATED:20230713T200630Z
LAST-MODIFIED:20230713T200630Z
UID:10000853-1907348400-1907355600@lakesideparkky.gov
SUMMARY:City Council Meeting
DESCRIPTION:Monthly Meeting of City Council \nEveryone is welcome to attend. The agenda is posted at the City Building and on the website or is available by contacting the City Clerk at 341-6670. \nCouncil Meetings are also streamed live by TBNK on local access. Please consult your provider for information.
URL:https://lakesideparkky.gov/event/city-council-meeting/2030-06-10/
LOCATION:City Building\, 9 Buttermilk Pike\, Lakeside Park\, KY\, 41005\, United States
END:VEVENT
BEGIN:VEVENT
DTSTART;TZID=America/New_York:20300708T190000
DTEND;TZID=America/New_York:20300708T210000
DTSTAMP:20260420T040747
CREATED:20230713T200630Z
LAST-MODIFIED:20230713T200630Z
UID:10000854-1909767600-1909774800@lakesideparkky.gov
SUMMARY:City Council Meeting
DESCRIPTION:Monthly Meeting of City Council \nEveryone is welcome to attend. The agenda is posted at the City Building and on the website or is available by contacting the City Clerk at 341-6670. \nCouncil Meetings are also streamed live by TBNK on local access. Please consult your provider for information.
URL:https://lakesideparkky.gov/event/city-council-meeting/2030-07-08/
LOCATION:City Building\, 9 Buttermilk Pike\, Lakeside Park\, KY\, 41005\, United States
END:VEVENT
BEGIN:VEVENT
DTSTART;TZID=America/New_York:20300812T190000
DTEND;TZID=America/New_York:20300812T210000
DTSTAMP:20260420T040747
CREATED:20230713T200630Z
LAST-MODIFIED:20230713T200630Z
UID:10000873-1912791600-1912798800@lakesideparkky.gov
SUMMARY:City Council Meeting
DESCRIPTION:Monthly Meeting of City Council \nEveryone is welcome to attend. The agenda is posted at the City Building and on the website or is available by contacting the City Clerk at 341-6670. \nCouncil Meetings are also streamed live by TBNK on local access. Please consult your provider for information.
URL:https://lakesideparkky.gov/event/city-council-meeting/2030-08-12/
LOCATION:City Building\, 9 Buttermilk Pike\, Lakeside Park\, KY\, 41005\, United States
END:VEVENT
BEGIN:VEVENT
DTSTART;TZID=America/New_York:20300909T190000
DTEND;TZID=America/New_York:20300909T210000
DTSTAMP:20260420T040747
CREATED:20230713T200630Z
LAST-MODIFIED:20230713T200630Z
UID:10000874-1915210800-1915218000@lakesideparkky.gov
SUMMARY:City Council Meeting
DESCRIPTION:Monthly Meeting of City Council \nEveryone is welcome to attend. The agenda is posted at the City Building and on the website or is available by contacting the City Clerk at 341-6670. \nCouncil Meetings are also streamed live by TBNK on local access. Please consult your provider for information.
URL:https://lakesideparkky.gov/event/city-council-meeting/2030-09-09/
LOCATION:City Building\, 9 Buttermilk Pike\, Lakeside Park\, KY\, 41005\, United States
END:VEVENT
END:VCALENDAR