BEGIN:VCALENDAR
VERSION:2.0
PRODID:-//City of Lakeside Park, KY - ECPv6.15.20//NONSGML v1.0//EN
CALSCALE:GREGORIAN
METHOD:PUBLISH
X-ORIGINAL-URL:https://lakesideparkky.gov
X-WR-CALDESC:Events for City of Lakeside Park, KY
REFRESH-INTERVAL;VALUE=DURATION:PT1H
X-Robots-Tag:noindex
X-PUBLISHED-TTL:PT1H
BEGIN:VTIMEZONE
TZID:America/New_York
BEGIN:DAYLIGHT
TZOFFSETFROM:-0500
TZOFFSETTO:-0400
TZNAME:EDT
DTSTART:20240310T070000
END:DAYLIGHT
BEGIN:STANDARD
TZOFFSETFROM:-0400
TZOFFSETTO:-0500
TZNAME:EST
DTSTART:20241103T060000
END:STANDARD
BEGIN:DAYLIGHT
TZOFFSETFROM:-0500
TZOFFSETTO:-0400
TZNAME:EDT
DTSTART:20250309T070000
END:DAYLIGHT
BEGIN:STANDARD
TZOFFSETFROM:-0400
TZOFFSETTO:-0500
TZNAME:EST
DTSTART:20251102T060000
END:STANDARD
BEGIN:DAYLIGHT
TZOFFSETFROM:-0500
TZOFFSETTO:-0400
TZNAME:EDT
DTSTART:20260308T070000
END:DAYLIGHT
BEGIN:STANDARD
TZOFFSETFROM:-0400
TZOFFSETTO:-0500
TZNAME:EST
DTSTART:20261101T060000
END:STANDARD
END:VTIMEZONE
BEGIN:VEVENT
DTSTART;TZID=America/New_York:20250311T140000
DTEND;TZID=America/New_York:20250311T153000
DTSTAMP:20260425T223203
CREATED:20250224T205900Z
LAST-MODIFIED:20250224T205900Z
UID:10000797-1741701600-1741707000@lakesideparkky.gov
SUMMARY:Senior 55+ BINGO
DESCRIPTION:
URL:https://lakesideparkky.gov/event/senior-55-bingo/
LOCATION:City of Fort Mitchell\, 2355 Dixie Highway\, Fort Mitchell\, KY\, 41017\, United States
CATEGORIES:News,Recreation
END:VEVENT
BEGIN:VEVENT
DTSTART;TZID=America/New_York:20250319T090000
DTEND;TZID=America/New_York:20250319T100000
DTSTAMP:20260425T223203
CREATED:20250310T143247Z
LAST-MODIFIED:20250313T174625Z
UID:10000817-1742374800-1742378400@lakesideparkky.gov
SUMMARY:Dance Fitness Class
DESCRIPTION:Dance Exercise/Chair Yoga Please enable JavaScript in your browser to complete this form.Please enable JavaScript in your browser to complete this form.Name *FirstLastEmail *Address *Address Line 1CityAlabamaAlaskaArizonaArkansasCaliforniaColoradoConnecticutDelawareDistrict of ColumbiaFloridaGeorgiaHawaiiIdahoIllinoisIndianaIowaKansasKentuckyLouisianaMaineMarylandMassachusettsMichiganMinnesotaMississippiMissouriMontanaNebraskaNevadaNew HampshireNew JerseyNew MexicoNew YorkNorth CarolinaNorth DakotaOhioOklahomaOregonPennsylvaniaRhode IslandSouth CarolinaSouth DakotaTennesseeTexasUtahVermontVirginiaWashingtonWest VirginiaWisconsinWyomingState		\n			* Address up\n			\n		\n		Are you signing up for DANCE EXERCISE? * *YesNoSubmit
URL:https://lakesideparkky.gov/event/dance-fitness-class-2/
LOCATION:City of Lakeside Park City Building\, 9 Buttermilk Pike\, Lakeside Park\, KY\, 41017\, United States
CATEGORIES:News,Recreation
END:VEVENT
BEGIN:VEVENT
DTSTART;TZID=America/New_York:20250326T090000
DTEND;TZID=America/New_York:20250326T100000
DTSTAMP:20260425T223203
CREATED:20250310T142700Z
LAST-MODIFIED:20250313T174541Z
UID:10000816-1742979600-1742983200@lakesideparkky.gov
SUMMARY:Chair Yoga Class
DESCRIPTION:Dance Exercise/Chair Yoga Please enable JavaScript in your browser to complete this form.Please enable JavaScript in your browser to complete this form.Name *FirstLastEmail *		\n			Address EXERCISE? Name\n			\n		\n		Address *Address Line 1CityAlabamaAlaskaArizonaArkansasCaliforniaColoradoConnecticutDelawareDistrict of ColumbiaFloridaGeorgiaHawaiiIdahoIllinoisIndianaIowaKansasKentuckyLouisianaMaineMarylandMassachusettsMichiganMinnesotaMississippiMissouriMontanaNebraskaNevadaNew HampshireNew JerseyNew MexicoNew YorkNorth CarolinaNorth DakotaOhioOklahomaOregonPennsylvaniaRhode IslandSouth CarolinaSouth DakotaTennesseeTexasUtahVermontVirginiaWashingtonWest VirginiaWisconsinWyomingStateAre you signing up for DANCE EXERCISE? * *YesNoSubmit
URL:https://lakesideparkky.gov/event/dance-fitness-class/
LOCATION:City of Lakeside Park City Building\, 9 Buttermilk Pike\, Lakeside Park\, KY\, 41017\, United States
CATEGORIES:News,Recreation
END:VEVENT
END:VCALENDAR